BEGIN:VCALENDAR
VERSION:2.0
PRODID:www.gruenewesseling.de
METHOD:PUBLISH
BEGIN:VTIMEZONE
TZID:Europe/Berlin
X-LIC-LOCATION:Europe/Berlin
BEGIN:DAYLIGHT
TZOFFSETFROM:+0100
TZOFFSETTO:+0200
TZNAME:CEST
DTSTART:19700329T020000
RRULE:FREQ=YEARLY;INTERVAL=1;BYDAY=-1SU;BYMONTH=3
END:DAYLIGHT
BEGIN:STANDARD
TZOFFSETFROM:+0200
TZOFFSETTO:+0100
TZNAME:CET
DTSTART:19701025T030000
RRULE:FREQ=YEARLY;INTERVAL=1;BYDAY=-1SU;BYMONTH=10
END:STANDARD
END:VTIMEZONE
BEGIN:VEVENT
UID:d7b75b6a877e8bc0aa5634b3d28e380c@www.gruenewesseling.de
URL;VALUE=URI:https://www.gruenewesseling.de/termine/vorstandssitzung-des
 -ortsverbands/
LOCATION:
SUMMARY:Vorstandssitzung des Ortsverbands
DESCRIPTION;ALTREP="data:text/html,":
CLASS:PUBLIC
DTSTART;TZID=Europe/Berlin:20240124T190000
DTEND;TZID=Europe/Berlin:20240124T200000
DTSTAMP:20260420T012807
END:VEVENT
END:VCALENDAR