BEGIN:VCALENDAR
VERSION:2.0
PRODID:www.gruenewesseling.de
METHOD:PUBLISH
BEGIN:VTIMEZONE
TZID:Europe/Berlin
X-LIC-LOCATION:Europe/Berlin
BEGIN:DAYLIGHT
TZOFFSETFROM:+0100
TZOFFSETTO:+0200
TZNAME:CEST
DTSTART:19700329T020000
RRULE:FREQ=YEARLY;INTERVAL=1;BYDAY=-1SU;BYMONTH=3
END:DAYLIGHT
BEGIN:STANDARD
TZOFFSETFROM:+0200
TZOFFSETTO:+0100
TZNAME:CET
DTSTART:19701025T030000
RRULE:FREQ=YEARLY;INTERVAL=1;BYDAY=-1SU;BYMONTH=10
END:STANDARD
END:VTIMEZONE
BEGIN:VEVENT
UID:82e63ed9833c33d3ca49e7f59ec6c8dd@www.gruenewesseling.de
URL;VALUE=URI:https://www.gruenewesseling.de/termine/neujahrsfruehstueck-
 2024-der-gruenen-ratsfraktion-wesseling/
LOCATION:Altes Rathaus, Alfons-Müller-Platz
SUMMARY:Neujahrsfrühstück der Grünen Ratsfraktion Wesseling
DESCRIPTION;ALTREP="data:text/html,":
CLASS:PUBLIC
DTSTART;TZID=Europe/Berlin:20250126T110000
DTEND;TZID=Europe/Berlin:20250126T120000
DTSTAMP:20260420T004112
END:VEVENT
END:VCALENDAR