BEGIN:VCALENDAR
VERSION:2.0
PRODID:www.gruenewesseling.de
METHOD:PUBLISH
BEGIN:VTIMEZONE
TZID:Europe/Berlin
X-LIC-LOCATION:Europe/Berlin
BEGIN:DAYLIGHT
TZOFFSETFROM:+0100
TZOFFSETTO:+0200
TZNAME:CEST
DTSTART:19700329T020000
RRULE:FREQ=YEARLY;INTERVAL=1;BYDAY=-1SU;BYMONTH=3
END:DAYLIGHT
BEGIN:STANDARD
TZOFFSETFROM:+0200
TZOFFSETTO:+0100
TZNAME:CET
DTSTART:19701025T030000
RRULE:FREQ=YEARLY;INTERVAL=1;BYDAY=-1SU;BYMONTH=10
END:STANDARD
END:VTIMEZONE
BEGIN:VEVENT
UID:d23f134765b2ac7386b2b644e3083342@www.gruenewesseling.de
URL;VALUE=URI:https://www.gruenewesseling.de/termine/gruene-radtour/
LOCATION:
SUMMARY:Grüne Radtour
DESCRIPTION;ALTREP="data:text/html,%0A%3Cp%3ERadeln%20f%C3%BCr%20das%20Kl
 ima%21%20Fahr%20mit%20uns%20quer%20durch%20Wesseling%20und%20Umgebung%20a
 m%20Mittwoch%2C%20den%2029.%20Mai.%20Wir%20starten%20um%2017%20Uhr%20in%2
 0der%20Flach-Fengler-Stra%C3%9Fe%20am%20Eiscaf%C3%A9%20Garibaldi.%3C%2Fp%
 3E%0A":Radeln für das Klima! Fahr mit uns quer durch Wesseling und Umgeb
 ung am Mittwoch\, den 29. Mai. Wir starten um 17 Uhr in der Flach-Fengler
 -Straße am Eiscafé Garibaldi.
CLASS:PUBLIC
DTSTART;TZID=Europe/Berlin:20240529T170000
DTEND;TZID=Europe/Berlin:20240529T180000
DTSTAMP:20260420T005138
END:VEVENT
END:VCALENDAR