BEGIN:VCALENDAR
VERSION:2.0
PRODID:www.gruenewesseling.de
METHOD:PUBLISH
BEGIN:VTIMEZONE
TZID:Europe/Berlin
X-LIC-LOCATION:Europe/Berlin
BEGIN:DAYLIGHT
TZOFFSETFROM:+0100
TZOFFSETTO:+0200
TZNAME:CEST
DTSTART:19700329T020000
RRULE:FREQ=YEARLY;INTERVAL=1;BYDAY=-1SU;BYMONTH=3
END:DAYLIGHT
BEGIN:STANDARD
TZOFFSETFROM:+0200
TZOFFSETTO:+0100
TZNAME:CET
DTSTART:19701025T030000
RRULE:FREQ=YEARLY;INTERVAL=1;BYDAY=-1SU;BYMONTH=10
END:STANDARD
END:VTIMEZONE
BEGIN:VEVENT
UID:71f538a4fbf2015241e5c45ea6ce9252@www.gruenewesseling.de
URL;VALUE=URI:https://www.gruenewesseling.de/termine/fraktionsklausur-3/
LOCATION:Neues Rathaus, Wesseling
SUMMARY:Fraktionsklausur
DESCRIPTION;ALTREP="data:text/html,":
CLASS:PUBLIC
DTSTART;TZID=Europe/Berlin:20231111T150000
DTEND;TZID=Europe/Berlin:20231111T160000
DTSTAMP:20260420T033954
END:VEVENT
END:VCALENDAR