BEGIN:VCALENDAR
VERSION:2.0
PRODID:www.gruenewesseling.de
METHOD:PUBLISH
BEGIN:VTIMEZONE
TZID:Europe/Berlin
X-LIC-LOCATION:Europe/Berlin
BEGIN:DAYLIGHT
TZOFFSETFROM:+0100
TZOFFSETTO:+0200
TZNAME:CEST
DTSTART:19700329T020000
RRULE:FREQ=YEARLY;INTERVAL=1;BYDAY=-1SU;BYMONTH=3
END:DAYLIGHT
BEGIN:STANDARD
TZOFFSETFROM:+0200
TZOFFSETTO:+0100
TZNAME:CET
DTSTART:19701025T030000
RRULE:FREQ=YEARLY;INTERVAL=1;BYDAY=-1SU;BYMONTH=10
END:STANDARD
END:VTIMEZONE
BEGIN:VEVENT
UID:be688275dba637183c93a7b429937058@www.gruenewesseling.de
URL;VALUE=URI:https://www.gruenewesseling.de/termine/aktionsstand-ihre-id
 een-fuer-wesseling/
LOCATION:Flach-Fengler-Straße
SUMMARY:Aktionsstand „Ihre Ideen für Wesseling“
DESCRIPTION;ALTREP="data:text/html,":
CLASS:PUBLIC
DTSTART;TZID=Europe/Berlin:20241019T110000
DTEND;TZID=Europe/Berlin:20241019T130000
DTSTAMP:20260420T003527
END:VEVENT
END:VCALENDAR